BEGIN:VCALENDAR
VERSION:2.0
PRODID:-//INSITE - ECPv6.8.2//NONSGML v1.0//EN
CALSCALE:GREGORIAN
METHOD:PUBLISH
X-ORIGINAL-URL:https://insite-croatia.com
X-WR-CALDESC:Events for INSITE
REFRESH-INTERVAL;VALUE=DURATION:PT1H
X-Robots-Tag:noindex
X-PUBLISHED-TTL:PT1H
BEGIN:VTIMEZONE
TZID:UTC
BEGIN:STANDARD
TZOFFSETFROM:+0000
TZOFFSETTO:+0000
TZNAME:UTC
DTSTART:20240101T000000
END:STANDARD
END:VTIMEZONE
BEGIN:VEVENT
DTSTART;TZID=UTC:20241102T220000
DTEND;TZID=UTC:20241103T070000
DTSTAMP:20260422T213350
CREATED:20241030T123742Z
LAST-MODIFIED:20241030T123742Z
UID:7710-1730584800-1730617200@insite-croatia.com
SUMMARY:Future Scope Halloween Edition w/ METODI HRISTOV & YELLOWHEADS @ Boogaloo
DESCRIPTION:This November\, Future Scope is bringing another stellar lineup to Boogaloo’s Halloween party\, featuring headliners Metodi Hristov and The Yellowheads. \nOn November 2nd\, Boogaloo will welcome Metodi Hristov\, the DJ and producer known for his unique blend of techno and tech-house\, adored by electronic music fans worldwide. Hristov’s career skyrocketed with the release of his track “Step Outside\,” which quickly topped charts in Ibiza and garnered support from legends like Marco Carola\, Richie Hawtin\, and Joris Voorn. Recently featured on Drumcode Radio\, Hristov continues to make waves on lineups across the globe. \nSharing the headlining stage\, The Yellowheads have earned their spot at the top\, performing alongside Pendulum\, Umek\, and Joseph Capriati at major festivals and clubs. Owners of the labels Reload Records and Reload Black Label\, they climbed to 34th on the World DJs Techno list in 2014\, holding second place with their hit “Submerged” for an extended period. \nJoining these headliners will be local talents E-Base\, currently working on his first studio album\, and Lalita Kali. \nPrepare your costumes and join Future Scope for an unforgettable Halloween night filled with spine-tingling beats! \nGet your tickets here.
URL:https://insite-croatia.com/event/future-scope-halloween-edition-w-metodi-hristov-yellowheads-boogaloo/
LOCATION:Boogaloo Zagreb\, Ul. grada Vukovara 68\, Zagreb\, 10000
CATEGORIES:Clubbing,Electronic music
ATTACH;FMTTYPE=image/jpeg:https://insite-croatia.com/wp-content/uploads/2024/10/463749118_969723535194407_6457461944523805985_n.jpg
END:VEVENT
END:VCALENDAR