BEGIN:VCALENDAR
VERSION:2.0
PRODID:-//INSITE - ECPv6.8.2//NONSGML v1.0//EN
CALSCALE:GREGORIAN
METHOD:PUBLISH
X-WR-CALNAME:INSITE
X-ORIGINAL-URL:https://insite-croatia.com
X-WR-CALDESC:Events for INSITE
REFRESH-INTERVAL;VALUE=DURATION:PT1H
X-Robots-Tag:noindex
X-PUBLISHED-TTL:PT1H
BEGIN:VTIMEZONE
TZID:UTC
BEGIN:STANDARD
TZOFFSETFROM:+0000
TZOFFSETTO:+0000
TZNAME:UTC
DTSTART:20240101T000000
END:STANDARD
END:VTIMEZONE
BEGIN:VEVENT
DTSTART;TZID=UTC:20240921T230000
DTEND;TZID=UTC:20240921T230000
DTSTAMP:20260423T103136
CREATED:20240918T123152Z
LAST-MODIFIED:20240918T123159Z
UID:6922-1726959600-1726959600@insite-croatia.com
SUMMARY:synesthesia. w/ Tinmann @ MASTERS CLUB
DESCRIPTION:After the summer break and outdoor gatherings\, on September 21st\, Masters is back with a new event. This time\, Tinmann will take the spotlight. Following his impressive set at the closing of the outdoor season in June\, he’s been invited to headline the event. The visual aspect of the night will be handled by improwiZz\, co-founder of the Blast Festival and a regular member of the Ozora VJ team. \n  \nLineup [Z – A]: \n\nTinmann\nsztok\nIGZ\nbubble o
URL:https://insite-croatia.com/event/synesthesia-w-tinmann-masters-club/
LOCATION:Masters Club\, Maksimirska Cesta 132\, Zagreb\, 10000
CATEGORIES:Clubbing,Electronic music
ATTACH;FMTTYPE=image/jpeg:https://insite-croatia.com/wp-content/uploads/2024/09/Subota-od-23-00-@synesthesia.official_-w-@tinmann__-@____igz-bubble-o-sztokVisuals-by-@improwizz-1.jpg
END:VEVENT
END:VCALENDAR