BEGIN:VCALENDAR
VERSION:2.0
PRODID:-//INSITE - ECPv6.8.2//NONSGML v1.0//EN
CALSCALE:GREGORIAN
METHOD:PUBLISH
X-ORIGINAL-URL:https://insite-croatia.com
X-WR-CALDESC:Events for INSITE
REFRESH-INTERVAL;VALUE=DURATION:PT1H
X-Robots-Tag:noindex
X-PUBLISHED-TTL:PT1H
BEGIN:VTIMEZONE
TZID:Europe/Paris
BEGIN:DAYLIGHT
TZOFFSETFROM:+0100
TZOFFSETTO:+0200
TZNAME:CEST
DTSTART:20250330T010000
END:DAYLIGHT
BEGIN:STANDARD
TZOFFSETFROM:+0200
TZOFFSETTO:+0100
TZNAME:CET
DTSTART:20251026T010000
END:STANDARD
END:VTIMEZONE
BEGIN:VEVENT
DTSTART;TZID=Europe/Paris:20250426T220000
DTEND;TZID=Europe/Paris:20250427T050000
DTSTAMP:20260423T033532
CREATED:20250418T130553Z
LAST-MODIFIED:20250418T130610Z
UID:12271-1745704800-1745730000@insite-croatia.com
SUMMARY:Vibe events w/ Dj Jock
DESCRIPTION:Vibe Events is thrilled to announce that DJ JOCK will be joining them for the very first time!\nOne of Croatia’s most in-demand techno DJs and producers\, DJ Jock has spent the past decade playing top festivals and clubs across Europe and the US\, sharing the stage with legends like Carl Cox\, Adam Beyer\, Amelie Lens\, and more. Known for his powerful sets and releases on major labels\, he’s also the founder of the Roots party series in Split and composed music for the film Have You Seen This Woman in 2022.  \noining the lineup are KRNYA\, BOSE b2b LIMEE\, and also making her Vibe Events debut — LALITA KALI from Zagreb! A rising techno DJ and producer\, Lalita has played everything from underground events to major festivals alongside names like Sara Landry\, Lilly Palmer\, and Marco Bailey. \nPresale tickets available for 8EUR (call  095/3053-112 for more info) \nTickets will be 10EUR at the entrance!
URL:https://insite-croatia.com/event/vibe-events-w-dj-jock/
LOCATION:Nautilus Koprivnica\, Trg Mladosti 18\, Koprivnica\, 48000
CATEGORIES:Clubbing,Electronic music
ATTACH;FMTTYPE=image/jpeg:https://insite-croatia.com/wp-content/uploads/2025/04/68013fc641e32-scaled.jpeg
END:VEVENT
END:VCALENDAR