BEGIN:VCALENDAR
VERSION:2.0
PRODID:-//INSITE - ECPv6.8.2//NONSGML v1.0//EN
CALSCALE:GREGORIAN
METHOD:PUBLISH
X-ORIGINAL-URL:https://insite-croatia.com
X-WR-CALDESC:Events for INSITE
REFRESH-INTERVAL;VALUE=DURATION:PT1H
X-Robots-Tag:noindex
X-PUBLISHED-TTL:PT1H
BEGIN:VTIMEZONE
TZID:Europe/Paris
BEGIN:DAYLIGHT
TZOFFSETFROM:+0100
TZOFFSETTO:+0200
TZNAME:CEST
DTSTART:20250330T010000
END:DAYLIGHT
BEGIN:STANDARD
TZOFFSETFROM:+0200
TZOFFSETTO:+0100
TZNAME:CET
DTSTART:20251026T010000
END:STANDARD
END:VTIMEZONE
BEGIN:VEVENT
DTSTART;TZID=Europe/Paris:20250405T220000
DTEND;TZID=Europe/Paris:20250406T030000
DTSTAMP:20260425T022155
CREATED:20250401T123225Z
LAST-MODIFIED:20250401T123225Z
UID:11611-1743890400-1743908400@insite-croatia.com
SUMMARY:Regular Bar w/ Dvornykova
DESCRIPTION:
URL:https://insite-croatia.com/event/regular-bar-w-dvornykova/
LOCATION:Regular Bar\, Ilica 65/1\, Zagreb\, 10000\, Croatia (Local Name: Hrvatska)
CATEGORIES:Electronic music
ATTACH;FMTTYPE=image/jpeg:https://insite-croatia.com/wp-content/uploads/2025/04/488599716_1120024253260831_8192738570585001924_n.jpg
END:VEVENT
END:VCALENDAR