BEGIN:VCALENDAR
VERSION:2.0
PRODID:-//INSITE - ECPv6.8.2//NONSGML v1.0//EN
CALSCALE:GREGORIAN
METHOD:PUBLISH
X-WR-CALNAME:INSITE
X-ORIGINAL-URL:https://insite-croatia.com
X-WR-CALDESC:Events for INSITE
REFRESH-INTERVAL;VALUE=DURATION:PT1H
X-Robots-Tag:noindex
X-PUBLISHED-TTL:PT1H
BEGIN:VTIMEZONE
TZID:UTC
BEGIN:STANDARD
TZOFFSETFROM:+0000
TZOFFSETTO:+0000
TZNAME:UTC
DTSTART:20240101T000000
END:STANDARD
END:VTIMEZONE
BEGIN:VEVENT
DTSTART;TZID=UTC:20241108T230000
DTEND;TZID=UTC:20241109T050000
DTSTAMP:20260424T012859
CREATED:20241104T141634Z
LAST-MODIFIED:20241104T141634Z
UID:7843-1731106800-1731128400@insite-croatia.com
SUMMARY:Dobar Disco w/ Jamie 3:26 @ PETI KUPE
DESCRIPTION:Dobar Disco is a project focused on disco\, classic house\, and club house music presented by Dobar House. It will take place on November 8th in Peti Kupe in Zagreb. Join the celebration of disco\, classic house\, and club sounds at this highly anticipated event featuring special guest Jamie 3:26\, alongside Hrwo E and the duo Tom Bug and Grooveline. \nTickets are on sale through Entrio.
URL:https://insite-croatia.com/event/dobar-disco-w-jamie-326-peti-kupe/
LOCATION:Peti Kupe\, Trnjanska cesta 5\, Zagreb\, Grad Zagreb\, Croatia (Local Name: Hrvatska)
CATEGORIES:Clubbing,Electronic music
ATTACH;FMTTYPE=image/jpeg:https://insite-croatia.com/wp-content/uploads/2024/11/464217408_1068707791925527_5210314322050455748_n.jpg
END:VEVENT
END:VCALENDAR