BEGIN:VCALENDAR
VERSION:2.0
PRODID:-//INSITE - ECPv6.8.2//NONSGML v1.0//EN
CALSCALE:GREGORIAN
METHOD:PUBLISH
X-ORIGINAL-URL:https://insite-croatia.com
X-WR-CALDESC:Events for INSITE
REFRESH-INTERVAL;VALUE=DURATION:PT1H
X-Robots-Tag:noindex
X-PUBLISHED-TTL:PT1H
BEGIN:VTIMEZONE
TZID:Europe/Paris
BEGIN:DAYLIGHT
TZOFFSETFROM:+0100
TZOFFSETTO:+0200
TZNAME:CEST
DTSTART:20250330T010000
END:DAYLIGHT
BEGIN:STANDARD
TZOFFSETFROM:+0200
TZOFFSETTO:+0100
TZNAME:CET
DTSTART:20251026T010000
END:STANDARD
END:VTIMEZONE
BEGIN:VEVENT
DTSTART;TZID=Europe/Paris:20250215T235500
DTEND;TZID=Europe/Paris:20250216T060000
DTSTAMP:20260423T223246
CREATED:20250207T093602Z
LAST-MODIFIED:20250207T093602Z
UID:10222-1739663700-1739685600@insite-croatia.com
SUMMARY:Tom Bug (Dobar House) & Božo Devčić @ NEMO CLUB
DESCRIPTION:TOM BUG (Dobar House) + Božo Devčić \nTom Bug is one of Croatia’s top DJs\, with a 20-year career\, numerous awards\, and performances spanning from Peti Kupe to New York and Las Vegas. His energetic\, authentic style has earned him releases on Soulfuric Trax\, Snatch! Records\, and more\, along with his own label\, Dobar House. \nA staple at festivals like Sonus\, Defected Croatia\, and Ultra Europe\, he also remixed Didier Sinclair’s Lovely Flight\, a French hit. In 2024\, he dropped his debut album Copy Machine with Grooveline\, showcasing their creative synergy. More than just beats\, Tom Bug delivers a true musical connection.
URL:https://insite-croatia.com/event/tom-bug-dobar-house-bozo-devcic-nemo-club/
LOCATION:Nemo Club\, Ružićeva ulica 2\, Rijeka\, Primorje-Gorski Kotar County\, 51000\, Croatia (Local Name: Hrvatska)
CATEGORIES:Clubbing,Electronic music
ATTACH;FMTTYPE=image/jpeg:https://insite-croatia.com/wp-content/uploads/2025/02/476131217_542631031699141_3009547467944647470_n-e1738920949967.jpg
END:VEVENT
END:VCALENDAR