BEGIN:VCALENDAR
VERSION:2.0
PRODID:-//INSITE - ECPv6.8.2//NONSGML v1.0//EN
CALSCALE:GREGORIAN
METHOD:PUBLISH
X-WR-CALNAME:INSITE
X-ORIGINAL-URL:https://insite-croatia.com
X-WR-CALDESC:Events for INSITE
REFRESH-INTERVAL;VALUE=DURATION:PT1H
X-Robots-Tag:noindex
X-PUBLISHED-TTL:PT1H
BEGIN:VTIMEZONE
TZID:Europe/Paris
BEGIN:DAYLIGHT
TZOFFSETFROM:+0100
TZOFFSETTO:+0200
TZNAME:CEST
DTSTART:20250330T010000
END:DAYLIGHT
BEGIN:STANDARD
TZOFFSETFROM:+0200
TZOFFSETTO:+0100
TZNAME:CET
DTSTART:20251026T010000
END:STANDARD
END:VTIMEZONE
BEGIN:VEVENT
DTSTART;TZID=Europe/Paris:20250307T230000
DTEND;TZID=Europe/Paris:20250307T230000
DTSTAMP:20260423T175112
CREATED:20250303T110733Z
LAST-MODIFIED:20250303T111009Z
UID:10765-1741388400-1741388400@insite-croatia.com
SUMMARY:DOBAR HOUSE NEW BLOOD
DESCRIPTION:Dobar House is stepping into Lift Club for the first time\, bringing a fresh wave of talent that represents the new generation of house music artists in Croatia. New Blood is all about the future – a lineup of DJs making their mark on the scene with their unique sound\, energy\, and passion for house music.\nLineup (a-z): \nDvornykova \nLemo \nMarcela \nTom Bug – will be hosting the night \nTickets are available on this link. 
URL:https://insite-croatia.com/event/dobar-house-new-blood/
LOCATION:Lift Club\, Savska cesta 28\, Zagreb\, Grad Zagreb\, 10 000\, Croatia (Local Name: Hrvatska)
CATEGORIES:Clubbing,Electronic music
ATTACH;FMTTYPE=image/png:https://insite-croatia.com/wp-content/uploads/2025/03/23566_marketing_banner_1522x682_1739722648.png
END:VEVENT
END:VCALENDAR