BEGIN:VCALENDAR
VERSION:2.0
PRODID:-//INSITE - ECPv6.8.2//NONSGML v1.0//EN
CALSCALE:GREGORIAN
METHOD:PUBLISH
X-ORIGINAL-URL:https://insite-croatia.com
X-WR-CALDESC:Events for INSITE
REFRESH-INTERVAL;VALUE=DURATION:PT1H
X-Robots-Tag:noindex
X-PUBLISHED-TTL:PT1H
BEGIN:VTIMEZONE
TZID:Europe/Paris
BEGIN:DAYLIGHT
TZOFFSETFROM:+0100
TZOFFSETTO:+0200
TZNAME:CEST
DTSTART:20250330T010000
END:DAYLIGHT
BEGIN:STANDARD
TZOFFSETFROM:+0200
TZOFFSETTO:+0100
TZNAME:CET
DTSTART:20251026T010000
END:STANDARD
END:VTIMEZONE
BEGIN:VEVENT
DTSTART;TZID=Europe/Paris:20251017T220000
DTEND;TZID=Europe/Paris:20251018T060000
DTSTAMP:20260423T050858
CREATED:20251017T092806Z
LAST-MODIFIED:20251017T092806Z
UID:17603-1760738400-1760767200@insite-croatia.com
SUMMARY:UNDERGROUND d.o.o. @ Primarius craft brewery
DESCRIPTION:Acid techno night by one of the most successful collectives – Underground d.o.o. \nLineup:KA OZMATANRADZEDICARADIOS \nRead more about event here\, and get your tickets here.
URL:https://insite-croatia.com/event/underground-d-o-o-primarius-craft-brewery/
LOCATION:Primarius Craft Brewery\, Slavonska avenija 3b\, Zagreb\, Grad Zagreb\, 10 000\, Croatia (Local Name: Hrvatska)
CATEGORIES:Electronic music
ATTACH;FMTTYPE=image/webp:https://insite-croatia.com/wp-content/uploads/2025/10/i-finih-poslastica-a.webp
END:VEVENT
END:VCALENDAR