BEGIN:VCALENDAR
VERSION:2.0
PRODID:-//INSITE - ECPv6.8.2//NONSGML v1.0//EN
CALSCALE:GREGORIAN
METHOD:PUBLISH
X-ORIGINAL-URL:https://insite-croatia.com
X-WR-CALDESC:Events for INSITE
REFRESH-INTERVAL;VALUE=DURATION:PT1H
X-Robots-Tag:noindex
X-PUBLISHED-TTL:PT1H
BEGIN:VTIMEZONE
TZID:Europe/Paris
BEGIN:DAYLIGHT
TZOFFSETFROM:+0100
TZOFFSETTO:+0200
TZNAME:CEST
DTSTART:20250330T010000
END:DAYLIGHT
BEGIN:STANDARD
TZOFFSETFROM:+0200
TZOFFSETTO:+0100
TZNAME:CET
DTSTART:20251026T010000
END:STANDARD
END:VTIMEZONE
BEGIN:VEVENT
DTSTART;TZID=Europe/Paris:20251205T230000
DTEND;TZID=Europe/Paris:20251206T060000
DTSTAMP:20260423T005050
CREATED:20251125T152219Z
LAST-MODIFIED:20251127T104722Z
UID:18242-1764975600-1765000800@insite-croatia.com
SUMMARY:BLAME THE MONO @ Boogaloo
DESCRIPTION:The iconic Franco-British duo BLAME THE MONO comes to Boogaloo Club in Zagreb on the 5th of December. Their intertwining sounds of classic techno\, UK bass music\, and echoes of Psytrance create an explosion on the dance floor. DJs MATAN and PUSMUS open the night by bring the energy and pump up the crowd with their driving grooves. DJ ROZALINA closes the night with her refined and sharp style and brings the crowd to the morning light. \nTickets can be bought online.
URL:https://insite-croatia.com/event/blame-the-mono-boogaloo/
LOCATION:Boogaloo Zagreb\, Ul. grada Vukovara 68\, Zagreb\, 10000
CATEGORIES:Clubbing,Electronic music
ATTACH;FMTTYPE=image/webp:https://insite-croatia.com/wp-content/uploads/2025/11/boogaloo-1.webp
END:VEVENT
END:VCALENDAR